BEGIN:VCALENDAR
VERSION:2.0
PRODID:-//Comhairle Contae Mhuineacháin - ECPv6.15.18//NONSGML v1.0//EN
CALSCALE:GREGORIAN
METHOD:PUBLISH
X-WR-CALNAME:Comhairle Contae Mhuineacháin
X-ORIGINAL-URL:https://monaghan.ie
X-WR-CALDESC:Events for Comhairle Contae Mhuineacháin
REFRESH-INTERVAL;VALUE=DURATION:PT1H
X-Robots-Tag:noindex
X-PUBLISHED-TTL:PT1H
BEGIN:VTIMEZONE
TZID:Europe/Dublin
BEGIN:DAYLIGHT
TZOFFSETFROM:+0000
TZOFFSETTO:+0100
TZNAME:IST
DTSTART:20240331T010000
END:DAYLIGHT
BEGIN:STANDARD
TZOFFSETFROM:+0100
TZOFFSETTO:+0000
TZNAME:GMT
DTSTART:20241027T010000
END:STANDARD
BEGIN:DAYLIGHT
TZOFFSETFROM:+0000
TZOFFSETTO:+0100
TZNAME:IST
DTSTART:20250330T010000
END:DAYLIGHT
BEGIN:STANDARD
TZOFFSETFROM:+0100
TZOFFSETTO:+0000
TZNAME:GMT
DTSTART:20251026T010000
END:STANDARD
BEGIN:DAYLIGHT
TZOFFSETFROM:+0000
TZOFFSETTO:+0100
TZNAME:IST
DTSTART:20260329T010000
END:DAYLIGHT
BEGIN:STANDARD
TZOFFSETFROM:+0100
TZOFFSETTO:+0000
TZNAME:GMT
DTSTART:20261025T010000
END:STANDARD
END:VTIMEZONE
BEGIN:VEVENT
DTSTART;TZID=Europe/Dublin:20250725T080000
DTEND;TZID=Europe/Dublin:20250725T160000
DTSTAMP:20260419T193919
CREATED:20250702T103710Z
LAST-MODIFIED:20250702T111434Z
UID:10000488-1753430400-1753459200@monaghan.ie
SUMMARY:Closing Date for Applications - Information Systems (IS) Project Leader
DESCRIPTION:
URL:https://monaghan.ie/event/closing-date-for-applications-information-systems-is-project-leader/
CATEGORIES:Events
END:VEVENT
BEGIN:VEVENT
DTSTART;TZID=Europe/Dublin:20250725T090000
DTEND;TZID=Europe/Dublin:20250725T160000
DTSTAMP:20260419T193919
CREATED:20250710T085648Z
LAST-MODIFIED:20250710T085718Z
UID:10000490-1753434000-1753459200@monaghan.ie
SUMMARY:Closing Date for Applications - Part Time Cleaner Monaghan Town
DESCRIPTION:
URL:https://monaghan.ie/event/opening-date-for-applications-part-time-cleaner-monaghan-town/
CATEGORIES:Events
END:VEVENT
END:VCALENDAR