BEGIN:VCALENDAR
VERSION:2.0
PRODID:-//Comhairle Contae Mhuineacháin - ECPv6.15.18//NONSGML v1.0//EN
CALSCALE:GREGORIAN
METHOD:PUBLISH
X-WR-CALNAME:Comhairle Contae Mhuineacháin
X-ORIGINAL-URL:https://monaghan.ie
X-WR-CALDESC:Events for Comhairle Contae Mhuineacháin
REFRESH-INTERVAL;VALUE=DURATION:PT1H
X-Robots-Tag:noindex
X-PUBLISHED-TTL:PT1H
BEGIN:VTIMEZONE
TZID:Europe/Dublin
BEGIN:DAYLIGHT
TZOFFSETFROM:+0000
TZOFFSETTO:+0100
TZNAME:IST
DTSTART:20250330T010000
END:DAYLIGHT
BEGIN:STANDARD
TZOFFSETFROM:+0100
TZOFFSETTO:+0000
TZNAME:GMT
DTSTART:20251026T010000
END:STANDARD
BEGIN:DAYLIGHT
TZOFFSETFROM:+0000
TZOFFSETTO:+0100
TZNAME:IST
DTSTART:20260329T010000
END:DAYLIGHT
BEGIN:STANDARD
TZOFFSETFROM:+0100
TZOFFSETTO:+0000
TZNAME:GMT
DTSTART:20261025T010000
END:STANDARD
BEGIN:DAYLIGHT
TZOFFSETFROM:+0000
TZOFFSETTO:+0100
TZNAME:IST
DTSTART:20270328T010000
END:DAYLIGHT
BEGIN:STANDARD
TZOFFSETFROM:+0100
TZOFFSETTO:+0000
TZNAME:GMT
DTSTART:20271031T010000
END:STANDARD
END:VTIMEZONE
BEGIN:VEVENT
DTSTART;TZID=Europe/Dublin:20260513T200000
DTEND;TZID=Europe/Dublin:20260513T210000
DTSTAMP:20260419T180919
CREATED:20260312T155502Z
LAST-MODIFIED:20260312T155605Z
UID:10000570-1778702400-1778706000@monaghan.ie
SUMMARY:Discover the art of sustainable cooking\, Shirley Arms Hotel\, Carrickmacross
DESCRIPTION:
URL:https://monaghan.ie/event/discover-the-art-of-sustainable-cooking-shirley-arms-hotel-carrickmacross/
CATEGORIES:Events
END:VEVENT
BEGIN:VEVENT
DTSTART;TZID=Europe/Dublin:20260515T080000
DTEND;TZID=Europe/Dublin:20260515T160000
DTSTAMP:20260419T180919
CREATED:20260404T152239Z
LAST-MODIFIED:20260404T152323Z
UID:10000583-1778832000-1778860800@monaghan.ie
SUMMARY:Closing Date - Building Frontages Enhancement Scheme 2026
DESCRIPTION:
URL:https://monaghan.ie/event/closing-date-building-frontages-enhancement-scheme-2026/
CATEGORIES:Events
END:VEVENT
BEGIN:VEVENT
DTSTART;TZID=Europe/Dublin:20260515T080000
DTEND;TZID=Europe/Dublin:20260525T170000
DTSTAMP:20260419T180919
CREATED:20260224T162933Z
LAST-MODIFIED:20260224T162933Z
UID:10000561-1778832000-1779728400@monaghan.ie
SUMMARY:Biodiversity Week
DESCRIPTION:
URL:https://monaghan.ie/event/biodiversity-week-2/
CATEGORIES:Events
END:VEVENT
BEGIN:VEVENT
DTSTART;TZID=Europe/Dublin:20260525T080000
DTEND;TZID=Europe/Dublin:20260525T160000
DTSTAMP:20260419T180919
CREATED:20260313T182156Z
LAST-MODIFIED:20260313T182156Z
UID:10000572-1779696000-1779724800@monaghan.ie
SUMMARY:Application Closing - CLÁR Funding Scheme
DESCRIPTION:
URL:https://monaghan.ie/event/application-closing-clar-funding-scheme/
CATEGORIES:Events
END:VEVENT
BEGIN:VEVENT
DTSTART;TZID=Europe/Dublin:20260526T080000
DTEND;TZID=Europe/Dublin:20260527T170000
DTSTAMP:20260419T180919
CREATED:20260126T111758Z
LAST-MODIFIED:20260126T111758Z
UID:10000532-1779782400-1779901200@monaghan.ie
SUMMARY:Monaghan County Council Artist Bursaries - Performing Arts Forum Belfast Gathering
DESCRIPTION:
URL:https://monaghan.ie/event/monaghan-county-council-artist-bursaries-performing-arts-forum-belfast-gathering/
CATEGORIES:Events
END:VEVENT
END:VCALENDAR